BEGIN:VCALENDAR
VERSION:2.0
PRODID:-//bccommunitycenter.org//NONSGML kigkonsult.se iCalcreator 2.30.10/
 /
CALSCALE:GREGORIAN
METHOD:PUBLISH
UID:f66e3719-b2db-4b30-a6b5-6557c6a7aa68
X-WR-CALDESC:
X-WR-RELCALID:c42cba78a2974327fa41b23c355244ee
X-WR-TIMEZONE:America/Denver
BEGIN:VTIMEZONE
TZID:America/Denver
BEGIN:STANDARD
TZNAME:MST
DTSTART:20201101T020000
TZOFFSETFROM:-0600
TZOFFSETTO:-0700
RDATE:20211107T020000
END:STANDARD
BEGIN:DAYLIGHT
TZNAME:MDT
DTSTART:20210314T020000
TZOFFSETFROM:-0700
TZOFFSETTO:-0600
RDATE:20220313T020000
END:DAYLIGHT
END:VTIMEZONE
BEGIN:VEVENT
UID:56dc7ae1-ea01-424a-8b2a-3603f0a59eb6
DTSTAMP:20260421T090322Z
DESCRIPTION:
DTSTART;TZID=America/Denver:20210414T160000
DTEND;TZID=America/Denver:20210414T180000
LOCATION:
SUMMARY:After School Program
END:VEVENT
END:VCALENDAR
