BEGIN:VCALENDAR
VERSION:2.0
PRODID:-//bccommunitycenter.org//NONSGML kigkonsult.se iCalcreator 2.30.10/
 /
CALSCALE:GREGORIAN
METHOD:PUBLISH
UID:e409b491-7424-4505-92d6-e31c3d610e3d
X-WR-CALDESC:
X-WR-RELCALID:3163c4116d3053da26fe18ad3b008fd0
X-WR-TIMEZONE:America/Denver
BEGIN:VTIMEZONE
TZID:America/Denver
BEGIN:STANDARD
TZNAME:MST
DTSTART:20201101T020000
TZOFFSETFROM:-0600
TZOFFSETTO:-0700
RDATE:20211107T020000
END:STANDARD
BEGIN:DAYLIGHT
TZNAME:MDT
DTSTART:20210314T020000
TZOFFSETFROM:-0700
TZOFFSETTO:-0600
RDATE:20220313T020000
END:DAYLIGHT
END:VTIMEZONE
BEGIN:VEVENT
UID:4c673bc3-1a63-45a0-8884-4a1a715a8b3f
DTSTAMP:20260420T092622Z
DESCRIPTION:
DTSTART;TZID=America/Denver:20210421T160000
DTEND;TZID=America/Denver:20210421T180000
LOCATION:
SUMMARY:After School Program
END:VEVENT
END:VCALENDAR
