BEGIN:VCALENDAR
VERSION:2.0
PRODID:-//bccommunitycenter.org//NONSGML kigkonsult.se iCalcreator 2.30.10/
 /
CALSCALE:GREGORIAN
METHOD:PUBLISH
UID:679c6e43-747a-43aa-9d39-ce55291732df
X-WR-CALDESC:
X-WR-RELCALID:5fa1855c1e95fcfd75370582d0059ad5
X-WR-TIMEZONE:America/Denver
BEGIN:VTIMEZONE
TZID:America/Denver
BEGIN:STANDARD
TZNAME:MST
DTSTART:20201101T020000
TZOFFSETFROM:-0600
TZOFFSETTO:-0700
RDATE:20211107T020000
RDATE:20221106T020000
END:STANDARD
BEGIN:DAYLIGHT
TZNAME:MDT
DTSTART:20210314T020000
TZOFFSETFROM:-0700
TZOFFSETTO:-0600
RDATE:20220313T020000
END:DAYLIGHT
END:VTIMEZONE
BEGIN:VEVENT
UID:5ea4703a-3016-43cf-8f0e-2ddf6daf7de5
DTSTAMP:20260420T111312Z
DESCRIPTION:
DTSTART;TZID=America/Denver:20210527T160000
DTEND;TZID=America/Denver:20210527T180000
LOCATION:
SUMMARY:After School Program
END:VEVENT
END:VCALENDAR
